Workbook

Sheet Collection
A1: Sealed TCG Collection Tracker
A2: Free template by Slab Bunker — slabbunker.com
A4: Item name | B4: Game | C4: Product type | D4: Set / expansion | E4: Language | F4: Qty | G4: Price paid (each) | H4: Current value (each) | I4: Total cost | J4: Total value | K4: Gain / loss | L4: Gain % | M4: Purchase date | N4: Where bought | O4: Stored in case? | P4: Notes
A5: Example: Elite Trainer Box | B5: Pokémon | C5: Elite Trainer Box | D5: (your set) | E5: English | F5: 2 | G5: 50 | H5: 65 | I5: =IF(F5="","",F5*G5) -> 100 | J5: =IF(F5="","",F5*H5) -> 130 | K5: =IF(F5="","",J5-I5) -> 30 | L5: =IF(OR(F5="",I5=0),"",K5/I5) -> 0.3 | M5: 2026-01-15 | N5: Local game store | O5: Yes
A6: Example: Booster Box | B6: One Piece | C6: Booster box | D6: (your set) | E6: English | F6: 1 | G6: 100 | H6: 120 | I6: =IF(F6="","",F6*G6) -> 100 | J6: =IF(F6="","",F6*H6) -> 120 | K6: =IF(F6="","",J6-I6) -> 20 | L6: =IF(OR(F6="",I6=0),"",K6/I6) -> 0.2 | M6: 2026-02-01 | N6: Online | O6: Yes
A7: Example: Booster Bundle | B7: Pokémon | C7: Booster bundle | D7: (your set) | E7: English | F7: 3 | G7: 25 | H7: 30 | I7: =IF(F7="","",F7*G7) -> 75 | J7: =IF(F7="","",F7*H7) -> 90 | K7: =IF(F7="","",J7-I7) -> 15 | L7: =IF(OR(F7="",I7=0),"",K7/I7) -> 0.2 | M7: 2026-03-10 | N7: Big-box retailer | O7: No
I8: =IF(F8="","",F8*G8) | J8: =IF(F8="","",F8*H8) | K8: =IF(F8="","",J8-I8) | L8: =IF(OR(F8="",I8=0),"",K8/I8)
I9: =IF(F9="","",F9*G9) | J9: =IF(F9="","",F9*H9) | K9: =IF(F9="","",J9-I9) | L9: =IF(OR(F9="",I9=0),"",K9/I9)
I10: =IF(F10="","",F10*G10) | J10: =IF(F10="","",F10*H10) | K10: =IF(F10="","",J10-I10) | L10: =IF(OR(F10="",I10=0),"",K10/I10)
I11: =IF(F11="","",F11*G11) | J11: =IF(F11="","",F11*H11) | K11: =IF(F11="","",J11-I11) | L11: =IF(OR(F11="",I11=0),"",K11/I11)
I12: =IF(F12="","",F12*G12) | J12: =IF(F12="","",F12*H12) | K12: =IF(F12="","",J12-I12) | L12: =IF(OR(F12="",I12=0),"",K12/I12)
I13: =IF(F13="","",F13*G13) | J13: =IF(F13="","",F13*H13) | K13: =IF(F13="","",J13-I13) | L13: =IF(OR(F13="",I13=0),"",K13/I13)
I14: =IF(F14="","",F14*G14) | J14: =IF(F14="","",F14*H14) | K14: =IF(F14="","",J14-I14) | L14: =IF(OR(F14="",I14=0),"",K14/I14)
I15: =IF(F15="","",F15*G15) | J15: =IF(F15="","",F15*H15) | K15: =IF(F15="","",J15-I15) | L15: =IF(OR(F15="",I15=0),"",K15/I15)
I16: =IF(F16="","",F16*G16) | J16: =IF(F16="","",F16*H16) | K16: =IF(F16="","",J16-I16) | L16: =IF(OR(F16="",I16=0),"",K16/I16)
I17: =IF(F17="","",F17*G17) | J17: =IF(F17="","",F17*H17) | K17: =IF(F17="","",J17-I17) | L17: =IF(OR(F17="",I17=0),"",K17/I17)
I18: =IF(F18="","",F18*G18) | J18: =IF(F18="","",F18*H18) | K18: =IF(F18="","",J18-I18) | L18: =IF(OR(F18="",I18=0),"",K18/I18)
I19: =IF(F19="","",F19*G19) | J19: =IF(F19="","",F19*H19) | K19: =IF(F19="","",J19-I19) | L19: =IF(OR(F19="",I19=0),"",K19/I19)
... I204: =IF(F204="","",F204*G204) | J204: =IF(F204="","",F204*H204) | K204: =IF(F204="","",J204-I204) | L204: =IF(OR(F204="",I204=0),"",K204/I204)

Sheet Dashboard
A1: Collection Dashboard
A3: Total items (qty) | B3: =SUM(Collection!F5:F204) -> 6
A4: Total cost | B4: =SUM(Collection!I5:I204) -> 275
A5: Current value | B5: =SUM(Collection!J5:J204) -> 340
A6: Total gain / loss | B6: =B5-B4 -> 65
A7: Gain % | B7: =IF(B4=0,"",B6/B4) -> 0.23636364
A8: Items stored in a case | B8: =SUMIF(Collection!O5:O204,"Yes",Collection!F5:F204) -> 3
A9: Items not yet protected | B9: =SUMIF(Collection!O5:O204,"No",Collection!F5:F204) -> 3
A12: Product type | B12: Qty | C12: Cost | D12: Value | E12: Gain
A13: Elite Trainer Box | B13: =SUMIF(Collection!C5:C204,A13,Collection!F5:F204) -> 2 | C13: =SUMIF(Collection!C5:C204,A13,Collection!I5:I204) -> 100 | D13: =SUMIF(Collection!C5:C204,A13,Collection!J5:J204) -> 130 | E13: =D13-C13 -> 30
A14: Booster bundle | B14: =SUMIF(Collection!C5:C204,A14,Collection!F5:F204) -> 3 | C14: =SUMIF(Collection!C5:C204,A14,Collection!I5:I204) -> 75 | D14: =SUMIF(Collection!C5:C204,A14,Collection!J5:J204) -> 90 | E14: =D14-C14 -> 15
A15: Booster box | B15: =SUMIF(Collection!C5:C204,A15,Collection!F5:F204) -> 1 | C15: =SUMIF(Collection!C5:C204,A15,Collection!I5:I204) -> 100 | D15: =SUMIF(Collection!C5:C204,A15,Collection!J5:J204) -> 120 | E15: =D15-C15 -> 20
A16: Collection box | B16: =SUMIF(Collection!C5:C204,A16,Collection!F5:F204) -> 0 | C16: =SUMIF(Collection!C5:C204,A16,Collection!I5:I204) -> 0 | D16: =SUMIF(Collection!C5:C204,A16,Collection!J5:J204) -> 0 | E16: =D16-C16 -> 0
A17: Tin | B17: =SUMIF(Collection!C5:C204,A17,Collection!F5:F204) -> 0 | C17: =SUMIF(Collection!C5:C204,A17,Collection!I5:I204) -> 0 | D17: =SUMIF(Collection!C5:C204,A17,Collection!J5:J204) -> 0 | E17: =D17-C17 -> 0
A18: Other | B18: =SUMIF(Collection!C5:C204,A18,Collection!F5:F204) -> 0 | C18: =SUMIF(Collection!C5:C204,A18,Collection!I5:I204) -> 0 | D18: =SUMIF(Collection!C5:C204,A18,Collection!J5:J204) -> 0 | E18: =D18-C18 -> 0
A21: Protect what you track — acrylic cases at slabbunker.com

Sheet Display & storage tips
A1: Display & storage tips for sealed product
A4: • Store in a cool, dry room; avoid attics, garages and bathrooms where humidity swings.
A5: • Dust settles on open shelves — an enclosed case keeps shrink wrap clean.
A6: • Don't stack heavy items directly on shrink-wrapped boxes; flat-top cases let you stack safely.
A7: • Handle boxes by the sides to avoid dents and creased corners.
A8: • Log every purchase here the day you buy it, so your cost basis is accurate.
A9: • Update 'Current value' monthly from a pricing source you trust and note the date.
A10: • Slab Bunker makes clear acrylic cases with N52 magnetic lids: SB-101 fits standard & Pokémon Center Elite Trainer Boxes; SB-102 fits English One Piece OP-04+ booster boxes; SB-103 is a 2-pack for Pokémon booster bundles. Sold on Amazon US.
A12: slabbunker.com — find the case that fits your box
